BEGIN:VCALENDAR
VERSION:2.0
PRODID:-//Oxford Memorial Library - ECPv6.15.18//NONSGML v1.0//EN
CALSCALE:GREGORIAN
METHOD:PUBLISH
X-ORIGINAL-URL:https://oxfordmemoriallibrary.org
X-WR-CALDESC:Events for Oxford Memorial Library
REFRESH-INTERVAL;VALUE=DURATION:PT1H
X-Robots-Tag:noindex
X-PUBLISHED-TTL:PT1H
BEGIN:VTIMEZONE
TZID:America/New_York
BEGIN:DAYLIGHT
TZOFFSETFROM:-0500
TZOFFSETTO:-0400
TZNAME:EDT
DTSTART:20230312T070000
END:DAYLIGHT
BEGIN:STANDARD
TZOFFSETFROM:-0400
TZOFFSETTO:-0500
TZNAME:EST
DTSTART:20231105T060000
END:STANDARD
BEGIN:DAYLIGHT
TZOFFSETFROM:-0500
TZOFFSETTO:-0400
TZNAME:EDT
DTSTART:20240310T070000
END:DAYLIGHT
BEGIN:STANDARD
TZOFFSETFROM:-0400
TZOFFSETTO:-0500
TZNAME:EST
DTSTART:20241103T060000
END:STANDARD
BEGIN:DAYLIGHT
TZOFFSETFROM:-0500
TZOFFSETTO:-0400
TZNAME:EDT
DTSTART:20250309T070000
END:DAYLIGHT
BEGIN:STANDARD
TZOFFSETFROM:-0400
TZOFFSETTO:-0500
TZNAME:EST
DTSTART:20251102T060000
END:STANDARD
BEGIN:DAYLIGHT
TZOFFSETFROM:-0500
TZOFFSETTO:-0400
TZNAME:EDT
DTSTART:20260308T070000
END:DAYLIGHT
BEGIN:STANDARD
TZOFFSETFROM:-0400
TZOFFSETTO:-0500
TZNAME:EST
DTSTART:20261101T060000
END:STANDARD
END:VTIMEZONE
BEGIN:VEVENT
DTSTART;TZID=America/New_York:20250220T173000
DTEND;TZID=America/New_York:20250220T200000
DTSTAMP:20260423T072633
CREATED:20250131T182654Z
LAST-MODIFIED:20250131T182654Z
UID:5403-1740072600-1740081600@oxfordmemoriallibrary.org
SUMMARY:Alma Thomas Inspired Painting Night - Adult Craft Night
DESCRIPTION:Learn about the influential abstract artist Alma Thomas and create a unique painting inspired by her style. Alma Thomas lived through the end of segregation in the U.S. and was the first Black woman to have a solo exhibition in the Whitney Museum of American Art in 1972. This program is for teens and adults. \nAll supplies will be provided.
URL:https://oxfordmemoriallibrary.org/event/alma-thomas-inspired-painting-night-adult-craft-night/
LOCATION:Oxford Memorial Library\, 8 Fort Hill Park\, Oxford\, NY\, 13830\, United States
CATEGORIES:adult,teen
END:VEVENT
BEGIN:VEVENT
DTSTART;TZID=America/New_York:20250130T173000
DTEND;TZID=America/New_York:20250130T200000
DTSTAMP:20260423T072633
CREATED:20241220T204508Z
LAST-MODIFIED:20241220T204508Z
UID:5228-1738258200-1738267200@oxfordmemoriallibrary.org
SUMMARY:Adult Craft Night - Teacup Bird Feeders
DESCRIPTION:
URL:https://oxfordmemoriallibrary.org/event/adult-craft-night-teacup-bird-feeders/
LOCATION:Oxford Memorial Library\, 8 Fort Hill Park\, Oxford\, NY\, 13830\, United States
CATEGORIES:adult
END:VEVENT
BEGIN:VEVENT
DTSTART;TZID=America/New_York:20250125T110000
DTEND;TZID=America/New_York:20250125T130000
DTSTAMP:20260423T072633
CREATED:20241113T184228Z
LAST-MODIFIED:20241204T184518Z
UID:5070-1737802800-1737810000@oxfordmemoriallibrary.org
SUMMARY:Disaster Preparedness Training
DESCRIPTION:
URL:https://oxfordmemoriallibrary.org/event/disaster-preparedness-training/
LOCATION:Oxford Memorial Library\, 8 Fort Hill Park\, Oxford\, NY\, 13830\, United States
CATEGORIES:adult
END:VEVENT
BEGIN:VEVENT
DTSTART;TZID=America/New_York:20241219T173000
DTEND;TZID=America/New_York:20241219T200000
DTSTAMP:20260423T072633
CREATED:20241126T173454Z
LAST-MODIFIED:20241126T173454Z
UID:5145-1734629400-1734638400@oxfordmemoriallibrary.org
SUMMARY:Adult Craft Night - Yarn Christmas Trees
DESCRIPTION:
URL:https://oxfordmemoriallibrary.org/event/adult-craft-night-yarn-christmas-trees/
LOCATION:Oxford Memorial Library\, 8 Fort Hill Park\, Oxford\, NY\, 13830\, United States
CATEGORIES:adult
END:VEVENT
BEGIN:VEVENT
DTSTART;TZID=America/New_York:20241121T180000
DTEND;TZID=America/New_York:20241121T200000
DTSTAMP:20260423T072633
CREATED:20241029T192658Z
LAST-MODIFIED:20241029T192758Z
UID:5006-1732212000-1732219200@oxfordmemoriallibrary.org
SUMMARY:Adult Craft Night - Book Page Wreaths
DESCRIPTION:
URL:https://oxfordmemoriallibrary.org/event/adult-craft-night-book-page-wreaths/
LOCATION:Oxford Memorial Library\, 8 Fort Hill Park\, Oxford\, NY\, 13830\, United States
CATEGORIES:adult
END:VEVENT
BEGIN:VEVENT
DTSTART;TZID=America/New_York:20241108T103000
DTEND;TZID=America/New_York:20241108T130000
DTSTAMP:20260423T072633
CREATED:20241025T180152Z
LAST-MODIFIED:20241025T180152Z
UID:4978-1731061800-1731070800@oxfordmemoriallibrary.org
SUMMARY:Chenango County Area Agency on Aging
DESCRIPTION:
URL:https://oxfordmemoriallibrary.org/event/chenango-county-area-agency-on-aging/
LOCATION:Oxford Memorial Library\, 8 Fort Hill Park\, Oxford\, NY\, 13830\, United States
CATEGORIES:adult
END:VEVENT
BEGIN:VEVENT
DTSTART;TZID=America/New_York:20241026T130000
DTEND;TZID=America/New_York:20241026T140000
DTSTAMP:20260423T072633
CREATED:20240924T144212Z
LAST-MODIFIED:20241004T172723Z
UID:4843-1729947600-1729951200@oxfordmemoriallibrary.org
SUMMARY:The Loomis Gang with Vicky House
DESCRIPTION:
URL:https://oxfordmemoriallibrary.org/event/the-loomis-gang-with-vicky-house/
LOCATION:Oxford Memorial Library\, 8 Fort Hill Park\, Oxford\, NY\, 13830\, United States
CATEGORIES:adult,Public
END:VEVENT
BEGIN:VEVENT
DTSTART;TZID=America/New_York:20241024T180000
DTEND;TZID=America/New_York:20241024T193000
DTSTAMP:20260423T072633
CREATED:20240927T181424Z
LAST-MODIFIED:20240927T181424Z
UID:4866-1729792800-1729798200@oxfordmemoriallibrary.org
SUMMARY:Adult Craft Night
DESCRIPTION:Oxford Memorial Library invites you to join us for a fun fall craft! Together we will be making puzzle piece pumpkins!
URL:https://oxfordmemoriallibrary.org/event/adult-craft-night/
LOCATION:Oxford Memorial Library\, 8 Fort Hill Park\, Oxford\, NY\, 13830\, United States
CATEGORIES:adult
END:VEVENT
BEGIN:VEVENT
DTSTART;TZID=America/New_York:20240928T110000
DTEND;TZID=America/New_York:20240928T130000
DTSTAMP:20260423T072633
CREATED:20240827T152941Z
LAST-MODIFIED:20240827T152941Z
UID:4780-1727521200-1727528400@oxfordmemoriallibrary.org
SUMMARY:Recipe Swap
DESCRIPTION:
URL:https://oxfordmemoriallibrary.org/event/recipe-swap/
LOCATION:Oxford Memorial Library\, 8 Fort Hill Park\, Oxford\, NY\, 13830\, United States
CATEGORIES:adult,family,Public
END:VEVENT
BEGIN:VEVENT
DTSTART;TZID=America/New_York:20240911T180000
DTEND;TZID=America/New_York:20240911T200000
DTSTAMP:20260423T072633
CREATED:20240827T152809Z
LAST-MODIFIED:20240827T152809Z
UID:4778-1726077600-1726084800@oxfordmemoriallibrary.org
SUMMARY:Bookmark Craft Night
DESCRIPTION:
URL:https://oxfordmemoriallibrary.org/event/bookmark-craft-night/
LOCATION:Oxford Memorial Library\, 8 Fort Hill Park\, Oxford\, NY\, 13830\, United States
CATEGORIES:adult
END:VEVENT
BEGIN:VEVENT
DTSTART;VALUE=DATE:20240901
DTEND;VALUE=DATE:20241001
DTSTAMP:20260423T072633
CREATED:20240827T152719Z
LAST-MODIFIED:20240827T152719Z
UID:4776-1725148800-1727740799@oxfordmemoriallibrary.org
SUMMARY:Bookmark Design Contest
DESCRIPTION:Oxford Memorial Library is hosting a Bookmark Design Contest open to all ages in celebration of Library Card Sign-Up Month!
URL:https://oxfordmemoriallibrary.org/event/bookmark-design-contest/
LOCATION:NY
CATEGORIES:adult,Public,teen,youth
END:VEVENT
BEGIN:VEVENT
DTSTART;TZID=America/New_York:20240723T110000
DTEND;TZID=America/New_York:20240723T120000
DTSTAMP:20260423T072633
CREATED:20240702T154503Z
LAST-MODIFIED:20240702T154503Z
UID:4594-1721732400-1721736000@oxfordmemoriallibrary.org
SUMMARY:PAX Tools Workshop
DESCRIPTION:Shakari Bradley from the Chenango Health Network is teaching a workshop about PAX Tools. The workshop will cover simple strategies for teaching kids’ behavior\, resulting in reduced conflict\, better relationships\, helping children manage their own behavior and other lifelong benefits.
URL:https://oxfordmemoriallibrary.org/event/pax-tools-workshop/
LOCATION:Oxford Memorial Library\, 8 Fort Hill Park\, Oxford\, NY\, 13830\, United States
CATEGORIES:adult,family,Public
END:VEVENT
BEGIN:VEVENT
DTSTART;TZID=America/New_York:20240613T140000
DTEND;TZID=America/New_York:20240613T150000
DTSTAMP:20260423T072633
CREATED:20240528T150721Z
LAST-MODIFIED:20240528T150721Z
UID:4471-1718287200-1718290800@oxfordmemoriallibrary.org
SUMMARY:Your Guide to Energy Savings
DESCRIPTION:Join us for a presentation from Cornell Cooperative Extension’s Energy Department to learn the ways you can save on energy cost and usage in your home! \nWe will go over the Three Steps to Savings \n\nWeatherization\nElectrification\nand Renewables\n\nThere will be information available about other programs and incentives as well.
URL:https://oxfordmemoriallibrary.org/event/your-guide-to-energy-savings/
LOCATION:Oxford Memorial Library\, 8 Fort Hill Park\, Oxford\, NY\, 13830\, United States
CATEGORIES:adult,Public
ATTACH;FMTTYPE=image/jpeg:https://oxfordmemoriallibrary.org/wp-content/uploads/2024/05/Your-Guide-to-Energy-Savings-1.jpg
END:VEVENT
BEGIN:VEVENT
DTSTART;TZID=America/New_York:20240525T100000
DTEND;TZID=America/New_York:20240525T130000
DTSTAMP:20260423T072633
CREATED:20240328T215655Z
LAST-MODIFIED:20240328T215655Z
UID:4282-1716631200-1716642000@oxfordmemoriallibrary.org
SUMMARY:Plant and Seed Swap
DESCRIPTION:
URL:https://oxfordmemoriallibrary.org/event/plant-and-seed-swap/
LOCATION:Oxford Memorial Library\, 8 Fort Hill Park\, Oxford\, NY\, 13830\, United States
CATEGORIES:adult,family,Public,teen
END:VEVENT
BEGIN:VEVENT
DTSTART;TZID=America/New_York:20240515T173000
DTEND;TZID=America/New_York:20240515T200000
DTSTAMP:20260423T072633
CREATED:20240503T180226Z
LAST-MODIFIED:20240503T180226Z
UID:4406-1715794200-1715803200@oxfordmemoriallibrary.org
SUMMARY:Adult Coloring Night
DESCRIPTION:
URL:https://oxfordmemoriallibrary.org/event/adult-coloring-night/
LOCATION:Oxford Memorial Library\, 8 Fort Hill Park\, Oxford\, NY\, 13830\, United States
CATEGORIES:adult
END:VEVENT
BEGIN:VEVENT
DTSTART;TZID=America/New_York:20240224T100000
DTEND;TZID=America/New_York:20240224T130000
DTSTAMP:20260423T072633
CREATED:20240201T223752Z
LAST-MODIFIED:20240201T223752Z
UID:4149-1708768800-1708779600@oxfordmemoriallibrary.org
SUMMARY:Fiber Group Meeting
DESCRIPTION:
URL:https://oxfordmemoriallibrary.org/event/fiber-group-meeting/
LOCATION:Oxford Memorial Library\, 8 Fort Hill Park\, Oxford\, NY\, 13830\, United States
CATEGORIES:adult
END:VEVENT
BEGIN:VEVENT
DTSTART;TZID=America/New_York:20240210T130000
DTEND;TZID=America/New_York:20240210T140000
DTSTAMP:20260423T072633
CREATED:20231221T225054Z
LAST-MODIFIED:20231221T225054Z
UID:4063-1707570000-1707573600@oxfordmemoriallibrary.org
SUMMARY:Abandoned in Chenango - Henry Drexler
DESCRIPTION:Join us as Henry Drexler presents his new painting and talks about the history of abandoned farms and farmland in Chenango County. Connect to history through art for an afternoon.
URL:https://oxfordmemoriallibrary.org/event/abandoned-in-chenango-henry-drexler/
LOCATION:Oxford Memorial Library\, 8 Fort Hill Park\, Oxford\, NY\, 13830\, United States
CATEGORIES:adult,family,Public
END:VEVENT
BEGIN:VEVENT
DTSTART;TZID=America/New_York:20240201T180000
DTEND;TZID=America/New_York:20240201T200000
DTSTAMP:20260423T072633
CREATED:20240117T194538Z
LAST-MODIFIED:20240117T194538Z
UID:4114-1706810400-1706817600@oxfordmemoriallibrary.org
SUMMARY:Bird Feeder Craft Night
DESCRIPTION:
URL:https://oxfordmemoriallibrary.org/event/bird-feeder-craft-night/
LOCATION:Oxford Memorial Library\, 8 Fort Hill Park\, Oxford\, NY\, 13830\, United States
CATEGORIES:adult,family,Public
END:VEVENT
BEGIN:VEVENT
DTSTART;TZID=America/New_York:20240131T173000
DTEND;TZID=America/New_York:20240131T190000
DTSTAMP:20260423T072633
CREATED:20231215T195228Z
LAST-MODIFIED:20231215T195302Z
UID:4036-1706722200-1706727600@oxfordmemoriallibrary.org
SUMMARY:DIY Herbal Bath Salts
DESCRIPTION:Come to the library for a relaxing class making your own herbal bath salts!
URL:https://oxfordmemoriallibrary.org/event/diy-herbal-bath-salts-copy/
LOCATION:Oxford Memorial Library\, 8 Fort Hill Park\, Oxford\, NY\, 13830\, United States
CATEGORIES:adult,Public
END:VEVENT
BEGIN:VEVENT
DTSTART;TZID=America/New_York:20240120T103000
DTEND;TZID=America/New_York:20240120T120000
DTSTAMP:20260423T072633
CREATED:20231215T195134Z
LAST-MODIFIED:20231215T195134Z
UID:4032-1705746600-1705752000@oxfordmemoriallibrary.org
SUMMARY:DIY Herbal Bath Salts
DESCRIPTION:Come to the library for a relaxing class making your own herbal bath salts!
URL:https://oxfordmemoriallibrary.org/event/diy-herbal-bath-salts/
LOCATION:Oxford Memorial Library\, 8 Fort Hill Park\, Oxford\, NY\, 13830\, United States
CATEGORIES:adult,Public
END:VEVENT
END:VCALENDAR