BEGIN:VCALENDAR
VERSION:2.0
PRODID:-//Oxford Memorial Library - ECPv6.15.18//NONSGML v1.0//EN
CALSCALE:GREGORIAN
METHOD:PUBLISH
X-ORIGINAL-URL:https://oxfordmemoriallibrary.org
X-WR-CALDESC:Events for Oxford Memorial Library
REFRESH-INTERVAL;VALUE=DURATION:PT1H
X-Robots-Tag:noindex
X-PUBLISHED-TTL:PT1H
BEGIN:VTIMEZONE
TZID:America/New_York
BEGIN:DAYLIGHT
TZOFFSETFROM:-0500
TZOFFSETTO:-0400
TZNAME:EDT
DTSTART:20220313T070000
END:DAYLIGHT
BEGIN:STANDARD
TZOFFSETFROM:-0400
TZOFFSETTO:-0500
TZNAME:EST
DTSTART:20221106T060000
END:STANDARD
BEGIN:DAYLIGHT
TZOFFSETFROM:-0500
TZOFFSETTO:-0400
TZNAME:EDT
DTSTART:20230312T070000
END:DAYLIGHT
BEGIN:STANDARD
TZOFFSETFROM:-0400
TZOFFSETTO:-0500
TZNAME:EST
DTSTART:20231105T060000
END:STANDARD
BEGIN:DAYLIGHT
TZOFFSETFROM:-0500
TZOFFSETTO:-0400
TZNAME:EDT
DTSTART:20240310T070000
END:DAYLIGHT
BEGIN:STANDARD
TZOFFSETFROM:-0400
TZOFFSETTO:-0500
TZNAME:EST
DTSTART:20241103T060000
END:STANDARD
END:VTIMEZONE
BEGIN:VEVENT
DTSTART;TZID=America/New_York:20231201T143000
DTEND;TZID=America/New_York:20231201T160000
DTSTAMP:20260423T133014
CREATED:20231117T182257Z
LAST-MODIFIED:20231117T182257Z
UID:3957-1701441000-1701446400@oxfordmemoriallibrary.org
SUMMARY:Family Fun
DESCRIPTION:Have some Friday Fun with Jess in the Community Room. There will be fun crafts and other things to do with your family.
URL:https://oxfordmemoriallibrary.org/event/family-fun-2/
LOCATION:Oxford Memorial Library\, 8 Fort Hill Park\, Oxford\, NY\, 13830\, United States
CATEGORIES:family,Public
END:VEVENT
BEGIN:VEVENT
DTSTART;TZID=America/New_York:20231130T100000
DTEND;TZID=America/New_York:20231130T120000
DTSTAMP:20260423T133014
CREATED:20231114T182148Z
LAST-MODIFIED:20231114T182329Z
UID:3940-1701338400-1701345600@oxfordmemoriallibrary.org
SUMMARY:Homeschool Meet and Greet
DESCRIPTION:All homeschooling families are encouraged to come to the Oxford Library to enjoy a day of fun activities! There will be stories\, activities\, crafts\, refreshments and more! \nStop by to have fun and make some new friends! \nThursday November 30th from 10am-12pm
URL:https://oxfordmemoriallibrary.org/event/homeschool-program/
LOCATION:Oxford Memorial Library\, 8 Fort Hill Park\, Oxford\, NY\, 13830\, United States
CATEGORIES:family,youth
END:VEVENT
BEGIN:VEVENT
DTSTART;TZID=America/New_York:20231117T143000
DTEND;TZID=America/New_York:20231117T160000
DTSTAMP:20260423T133014
CREATED:20231108T191547Z
LAST-MODIFIED:20231108T191547Z
UID:3904-1700231400-1700236800@oxfordmemoriallibrary.org
SUMMARY:Family Fun
DESCRIPTION:Have some Friday Fun with Jess in the Community Room. There will be fun crafts and other things to do with your family.
URL:https://oxfordmemoriallibrary.org/event/family-fun/
LOCATION:Oxford Memorial Library\, 8 Fort Hill Park\, Oxford\, NY\, 13830\, United States
CATEGORIES:family,Public
END:VEVENT
BEGIN:VEVENT
DTSTART;TZID=America/New_York:20231116T053000
DTEND;TZID=America/New_York:20231116T200000
DTSTAMP:20260423T133014
CREATED:20231108T191150Z
LAST-MODIFIED:20231108T191150Z
UID:3901-1700112600-1700164800@oxfordmemoriallibrary.org
SUMMARY:Family Game Night
DESCRIPTION:Come have some fun playing board games at the Oxford Library! November is National Board Game Month\, and this will be out last game night until spring! \nBring your own games or play some of ours!
URL:https://oxfordmemoriallibrary.org/event/family-game-night/
LOCATION:Oxford Memorial Library\, 8 Fort Hill Park\, Oxford\, NY\, 13830\, United States
CATEGORIES:family,Public
END:VEVENT
END:VCALENDAR