BEGIN:VCALENDAR
VERSION:2.0
PRODID:-//Oxford Memorial Library - ECPv6.15.18//NONSGML v1.0//EN
CALSCALE:GREGORIAN
METHOD:PUBLISH
X-ORIGINAL-URL:https://oxfordmemoriallibrary.org
X-WR-CALDESC:Events for Oxford Memorial Library
REFRESH-INTERVAL;VALUE=DURATION:PT1H
X-Robots-Tag:noindex
X-PUBLISHED-TTL:PT1H
BEGIN:VTIMEZONE
TZID:America/New_York
BEGIN:DAYLIGHT
TZOFFSETFROM:-0500
TZOFFSETTO:-0400
TZNAME:EDT
DTSTART:20230312T070000
END:DAYLIGHT
BEGIN:STANDARD
TZOFFSETFROM:-0400
TZOFFSETTO:-0500
TZNAME:EST
DTSTART:20231105T060000
END:STANDARD
BEGIN:DAYLIGHT
TZOFFSETFROM:-0500
TZOFFSETTO:-0400
TZNAME:EDT
DTSTART:20240310T070000
END:DAYLIGHT
BEGIN:STANDARD
TZOFFSETFROM:-0400
TZOFFSETTO:-0500
TZNAME:EST
DTSTART:20241103T060000
END:STANDARD
BEGIN:DAYLIGHT
TZOFFSETFROM:-0500
TZOFFSETTO:-0400
TZNAME:EDT
DTSTART:20250309T070000
END:DAYLIGHT
BEGIN:STANDARD
TZOFFSETFROM:-0400
TZOFFSETTO:-0500
TZNAME:EST
DTSTART:20251102T060000
END:STANDARD
BEGIN:DAYLIGHT
TZOFFSETFROM:-0500
TZOFFSETTO:-0400
TZNAME:EDT
DTSTART:20260308T070000
END:DAYLIGHT
BEGIN:STANDARD
TZOFFSETFROM:-0400
TZOFFSETTO:-0500
TZNAME:EST
DTSTART:20261101T060000
END:STANDARD
END:VTIMEZONE
BEGIN:VEVENT
DTSTART;TZID=America/New_York:20240210T130000
DTEND;TZID=America/New_York:20240210T140000
DTSTAMP:20260423T165654
CREATED:20231221T225054Z
LAST-MODIFIED:20231221T225054Z
UID:4063-1707570000-1707573600@oxfordmemoriallibrary.org
SUMMARY:Abandoned in Chenango - Henry Drexler
DESCRIPTION:Join us as Henry Drexler presents his new painting and talks about the history of abandoned farms and farmland in Chenango County. Connect to history through art for an afternoon.
URL:https://oxfordmemoriallibrary.org/event/abandoned-in-chenango-henry-drexler/
LOCATION:Oxford Memorial Library\, 8 Fort Hill Park\, Oxford\, NY\, 13830\, United States
CATEGORIES:adult,family,Public
END:VEVENT
BEGIN:VEVENT
DTSTART;TZID=America/New_York:20240314T190000
DTEND;TZID=America/New_York:20240314T200000
DTSTAMP:20260423T165654
CREATED:20240223T194124Z
LAST-MODIFIED:20240223T194124Z
UID:4219-1710442800-1710446400@oxfordmemoriallibrary.org
SUMMARY:Library Board Meeting
DESCRIPTION:The Oxford Memorial Library Board meets once a month\, on the second Thursday of the month\, to discuss Library business. The public is welcome to attend.
URL:https://oxfordmemoriallibrary.org/event/library-board-meeting-4/
LOCATION:Oxford Memorial Library\, 8 Fort Hill Park\, Oxford\, NY\, 13830\, United States
CATEGORIES:Public
END:VEVENT
BEGIN:VEVENT
DTSTART;TZID=America/New_York:20240330T080000
DTEND;TZID=America/New_York:20240330T170000
DTSTAMP:20260423T165654
CREATED:20240223T193931Z
LAST-MODIFIED:20240223T193931Z
UID:4215-1711785600-1711818000@oxfordmemoriallibrary.org
SUMMARY:Easter Egg Hunt and Story Time at Solitude Farms
DESCRIPTION:AT SOLITUDE FARMS not the Oxford Memorial Library \nCome to this fun Easter event at Solitude Farms for a day of easter egg collecting and Story Time with Jess from the Oxford Memorial Library!
URL:https://oxfordmemoriallibrary.org/event/easter-egg-hunt-and-story-time-at-solitude-farms/
LOCATION:Solitude Farms
CATEGORIES:family,Public,youth
END:VEVENT
BEGIN:VEVENT
DTSTART;TZID=America/New_York:20240404T180000
DTEND;TZID=America/New_York:20240404T200000
DTSTAMP:20260423T165654
CREATED:20240223T194429Z
LAST-MODIFIED:20240328T220103Z
UID:4223-1712253600-1712260800@oxfordmemoriallibrary.org
SUMMARY:Spring Story Time
DESCRIPTION:Join Jess for a Spring Story Time and Craft Night!
URL:https://oxfordmemoriallibrary.org/event/family-night-pollinator-presentation-from-solitude-farms/
LOCATION:Oxford Memorial Library\, 8 Fort Hill Park\, Oxford\, NY\, 13830\, United States
CATEGORIES:family,Public,youth
END:VEVENT
BEGIN:VEVENT
DTSTART;TZID=America/New_York:20240410T173000
DTEND;TZID=America/New_York:20240410T200000
DTSTAMP:20260423T165654
CREATED:20240228T183047Z
LAST-MODIFIED:20240228T183047Z
UID:4240-1712770200-1712779200@oxfordmemoriallibrary.org
SUMMARY:Garden Planning and Seed Starting Workshop with Cornell Cooperative Extension
DESCRIPTION:
URL:https://oxfordmemoriallibrary.org/event/garden-planning-and-seed-starting-workshop-with-cornell-cooperative-extension/
LOCATION:Oxford Memorial Library\, 8 Fort Hill Park\, Oxford\, NY\, 13830\, United States
CATEGORIES:family,Public
END:VEVENT
BEGIN:VEVENT
DTSTART;TZID=America/New_York:20240411T190000
DTEND;TZID=America/New_York:20240411T200000
DTSTAMP:20260423T165654
CREATED:20240223T194204Z
LAST-MODIFIED:20240223T194204Z
UID:4220-1712862000-1712865600@oxfordmemoriallibrary.org
SUMMARY:Library Board Meeting
DESCRIPTION:The Oxford Memorial Library Board meets once a month\, on the second Thursday of the month\, to discuss Library business. The public is welcome to attend.
URL:https://oxfordmemoriallibrary.org/event/library-board-meeting-5/
LOCATION:Oxford Memorial Library\, 8 Fort Hill Park\, Oxford\, NY\, 13830\, United States
CATEGORIES:Public
END:VEVENT
BEGIN:VEVENT
DTSTART;TZID=America/New_York:20240502T180000
DTEND;TZID=America/New_York:20240502T180000
DTSTAMP:20260423T165654
CREATED:20240423T151951Z
LAST-MODIFIED:20240423T151951Z
UID:4337-1714672800-1714672800@oxfordmemoriallibrary.org
SUMMARY:Fairy House Craft Night
DESCRIPTION:Come to the Oxford Library for a magical craft night making homes for fairy friends!
URL:https://oxfordmemoriallibrary.org/event/fairy-house-craft-night/
LOCATION:Oxford Memorial Library\, 8 Fort Hill Park\, Oxford\, NY\, 13830\, United States
CATEGORIES:family,Public
END:VEVENT
BEGIN:VEVENT
DTSTART;TZID=America/New_York:20240525T100000
DTEND;TZID=America/New_York:20240525T130000
DTSTAMP:20260423T165654
CREATED:20240328T215655Z
LAST-MODIFIED:20240328T215655Z
UID:4282-1716631200-1716642000@oxfordmemoriallibrary.org
SUMMARY:Plant and Seed Swap
DESCRIPTION:
URL:https://oxfordmemoriallibrary.org/event/plant-and-seed-swap/
LOCATION:Oxford Memorial Library\, 8 Fort Hill Park\, Oxford\, NY\, 13830\, United States
CATEGORIES:adult,family,Public,teen
END:VEVENT
BEGIN:VEVENT
DTSTART;TZID=America/New_York:20240613T140000
DTEND;TZID=America/New_York:20240613T150000
DTSTAMP:20260423T165654
CREATED:20240528T150721Z
LAST-MODIFIED:20240528T150721Z
UID:4471-1718287200-1718290800@oxfordmemoriallibrary.org
SUMMARY:Your Guide to Energy Savings
DESCRIPTION:Join us for a presentation from Cornell Cooperative Extension’s Energy Department to learn the ways you can save on energy cost and usage in your home! \nWe will go over the Three Steps to Savings \n\nWeatherization\nElectrification\nand Renewables\n\nThere will be information available about other programs and incentives as well.
URL:https://oxfordmemoriallibrary.org/event/your-guide-to-energy-savings/
LOCATION:Oxford Memorial Library\, 8 Fort Hill Park\, Oxford\, NY\, 13830\, United States
CATEGORIES:adult,Public
ATTACH;FMTTYPE=image/jpeg:https://oxfordmemoriallibrary.org/wp-content/uploads/2024/05/Your-Guide-to-Energy-Savings-1.jpg
END:VEVENT
BEGIN:VEVENT
DTSTART;TZID=America/New_York:20240620T173000
DTEND;TZID=America/New_York:20240620T200000
DTSTAMP:20260423T165654
CREATED:20240612T182544Z
LAST-MODIFIED:20240612T182544Z
UID:4518-1718904600-1718913600@oxfordmemoriallibrary.org
SUMMARY:Family Game Night
DESCRIPTION:
URL:https://oxfordmemoriallibrary.org/event/family-game-night-6/
LOCATION:Oxford Memorial Library\, 8 Fort Hill Park\, Oxford\, NY\, 13830\, United States
CATEGORIES:family,Public
END:VEVENT
BEGIN:VEVENT
DTSTART;TZID=America/New_York:20240622T110000
DTEND;TZID=America/New_York:20240622T130000
DTSTAMP:20260423T165654
CREATED:20240528T234235Z
LAST-MODIFIED:20240528T234235Z
UID:4484-1719054000-1719061200@oxfordmemoriallibrary.org
SUMMARY:Pride at the Library
DESCRIPTION:Celebrate Pride Month with us at the Oxford Memorial Library! \nAll members of the LGBTQ community and allies are invited! This is a family friendly event and safe space. There will be crafts\, food\, music\, book and movie recommendations\, and of course our community. \nLibraries are for everyone\, homophobia\, transphobia\, and hate will not be tolerated.
URL:https://oxfordmemoriallibrary.org/event/pride-at-the-library/
LOCATION:Oxford Memorial Library\, 8 Fort Hill Park\, Oxford\, NY\, 13830\, United States
CATEGORIES:family,Public
ATTACH;FMTTYPE=image/jpeg:https://oxfordmemoriallibrary.org/wp-content/uploads/2024/05/Pride-at-the-Library.jpg
END:VEVENT
BEGIN:VEVENT
DTSTART;TZID=America/New_York:20240628T140000
DTEND;TZID=America/New_York:20240628T163000
DTSTAMP:20260423T165654
CREATED:20240627T173846Z
LAST-MODIFIED:20240627T173846Z
UID:4568-1719583200-1719592200@oxfordmemoriallibrary.org
SUMMARY:CDO Workforce Tabling
DESCRIPTION:CDO Workforce will be visiting the Oxford Memorial Library to offer assistance and advice on finding work.
URL:https://oxfordmemoriallibrary.org/event/cdo-workforce-tabling/
LOCATION:Oxford Memorial Library\, 8 Fort Hill Park\, Oxford\, NY\, 13830\, United States
CATEGORIES:Public
END:VEVENT
BEGIN:VEVENT
DTSTART;TZID=America/New_York:20240723T110000
DTEND;TZID=America/New_York:20240723T120000
DTSTAMP:20260423T165654
CREATED:20240702T154503Z
LAST-MODIFIED:20240702T154503Z
UID:4594-1721732400-1721736000@oxfordmemoriallibrary.org
SUMMARY:PAX Tools Workshop
DESCRIPTION:Shakari Bradley from the Chenango Health Network is teaching a workshop about PAX Tools. The workshop will cover simple strategies for teaching kids’ behavior\, resulting in reduced conflict\, better relationships\, helping children manage their own behavior and other lifelong benefits.
URL:https://oxfordmemoriallibrary.org/event/pax-tools-workshop/
LOCATION:Oxford Memorial Library\, 8 Fort Hill Park\, Oxford\, NY\, 13830\, United States
CATEGORIES:adult,family,Public
END:VEVENT
BEGIN:VEVENT
DTSTART;TZID=America/New_York:20240726T140000
DTEND;TZID=America/New_York:20240726T163000
DTSTAMP:20260423T165654
CREATED:20240703T173015Z
LAST-MODIFIED:20240703T173019Z
UID:4572-1722002400-1722011400@oxfordmemoriallibrary.org
SUMMARY:CDO Workforce Tabling
DESCRIPTION:CDO Workforce will be visiting the Oxford Memorial Library to offer assistance and advice on finding work.
URL:https://oxfordmemoriallibrary.org/event/cdo-workforce-tabling-2/
LOCATION:Oxford Memorial Library\, 8 Fort Hill Park\, Oxford\, NY\, 13830\, United States
CATEGORIES:Public
END:VEVENT
BEGIN:VEVENT
DTSTART;TZID=America/New_York:20240830T140000
DTEND;TZID=America/New_York:20240830T163000
DTSTAMP:20260423T165654
CREATED:20240703T173008Z
LAST-MODIFIED:20240703T173109Z
UID:4571-1725026400-1725035400@oxfordmemoriallibrary.org
SUMMARY:CDO Workforce Tabling
DESCRIPTION:CDO Workforce will be visiting the Oxford Memorial Library to offer assistance and advice on finding work.
URL:https://oxfordmemoriallibrary.org/event/cdo-workforce-tabling-3/
LOCATION:Oxford Memorial Library\, 8 Fort Hill Park\, Oxford\, NY\, 13830\, United States
CATEGORIES:Public
END:VEVENT
BEGIN:VEVENT
DTSTART;VALUE=DATE:20240901
DTEND;VALUE=DATE:20241001
DTSTAMP:20260423T165654
CREATED:20240827T152719Z
LAST-MODIFIED:20240827T152719Z
UID:4776-1725148800-1727740799@oxfordmemoriallibrary.org
SUMMARY:Bookmark Design Contest
DESCRIPTION:Oxford Memorial Library is hosting a Bookmark Design Contest open to all ages in celebration of Library Card Sign-Up Month!
URL:https://oxfordmemoriallibrary.org/event/bookmark-design-contest/
LOCATION:NY
CATEGORIES:adult,Public,teen,youth
END:VEVENT
BEGIN:VEVENT
DTSTART;TZID=America/New_York:20240928T110000
DTEND;TZID=America/New_York:20240928T130000
DTSTAMP:20260423T165654
CREATED:20240827T152941Z
LAST-MODIFIED:20240827T152941Z
UID:4780-1727521200-1727528400@oxfordmemoriallibrary.org
SUMMARY:Recipe Swap
DESCRIPTION:
URL:https://oxfordmemoriallibrary.org/event/recipe-swap/
LOCATION:Oxford Memorial Library\, 8 Fort Hill Park\, Oxford\, NY\, 13830\, United States
CATEGORIES:adult,family,Public
END:VEVENT
BEGIN:VEVENT
DTSTART;TZID=America/New_York:20241005T090000
DTEND;TZID=America/New_York:20241005T130000
DTSTAMP:20260423T165654
CREATED:20240924T143818Z
LAST-MODIFIED:20240924T143818Z
UID:4839-1728118800-1728133200@oxfordmemoriallibrary.org
SUMMARY:Book Sale
DESCRIPTION:HUGE Book Sale \nNo set prices; make a cash donation! \nBooks for all ages\, Books on CD\, DVDs\, and more!
URL:https://oxfordmemoriallibrary.org/event/book-sale/
LOCATION:Oxford Memorial Library\, 8 Fort Hill Park\, Oxford\, NY\, 13830\, United States
CATEGORIES:Public
END:VEVENT
BEGIN:VEVENT
DTSTART;TZID=America/New_York:20241012T090000
DTEND;TZID=America/New_York:20241012T130000
DTSTAMP:20260423T165654
CREATED:20240924T143851Z
LAST-MODIFIED:20240924T143851Z
UID:4841-1728723600-1728738000@oxfordmemoriallibrary.org
SUMMARY:Book Sale
DESCRIPTION:HUGE Book Sale \nNo set prices; make a cash donation! \nBooks for all ages\, Books on CD\, DVDs\, and more!
URL:https://oxfordmemoriallibrary.org/event/book-sale-2/
LOCATION:Oxford Memorial Library\, 8 Fort Hill Park\, Oxford\, NY\, 13830\, United States
CATEGORIES:Public
END:VEVENT
BEGIN:VEVENT
DTSTART;TZID=America/New_York:20241026T130000
DTEND;TZID=America/New_York:20241026T140000
DTSTAMP:20260423T165654
CREATED:20240924T144212Z
LAST-MODIFIED:20241004T172723Z
UID:4843-1729947600-1729951200@oxfordmemoriallibrary.org
SUMMARY:The Loomis Gang with Vicky House
DESCRIPTION:
URL:https://oxfordmemoriallibrary.org/event/the-loomis-gang-with-vicky-house/
LOCATION:Oxford Memorial Library\, 8 Fort Hill Park\, Oxford\, NY\, 13830\, United States
CATEGORIES:adult,Public
END:VEVENT
BEGIN:VEVENT
DTSTART;TZID=America/New_York:20250212T173000
DTEND;TZID=America/New_York:20250212T183000
DTSTAMP:20260423T165654
CREATED:20250117T192909Z
LAST-MODIFIED:20250117T192909Z
UID:5343-1739381400-1739385000@oxfordmemoriallibrary.org
SUMMARY:Valentine's Day Family Craft Night
DESCRIPTION:
URL:https://oxfordmemoriallibrary.org/event/valentines-day-family-craft-night/
LOCATION:Oxford Memorial Library\, 8 Fort Hill Park\, Oxford\, NY\, 13830\, United States
CATEGORIES:family,Public,youth
END:VEVENT
BEGIN:VEVENT
DTSTART;TZID=America/New_York:20250308T110000
DTEND;TZID=America/New_York:20250308T130000
DTSTAMP:20260423T165654
CREATED:20250220T192416Z
LAST-MODIFIED:20250220T192416Z
UID:5486-1741431600-1741438800@oxfordmemoriallibrary.org
SUMMARY:Nancy's Retirement Party
DESCRIPTION:
URL:https://oxfordmemoriallibrary.org/event/nancys-retirement-party/
LOCATION:Oxford Memorial Library\, 8 Fort Hill Park\, Oxford\, NY\, 13830\, United States
CATEGORIES:Public
END:VEVENT
BEGIN:VEVENT
DTSTART;TZID=America/New_York:20250312T173000
DTEND;TZID=America/New_York:20250312T200000
DTSTAMP:20260423T165654
CREATED:20250220T193120Z
LAST-MODIFIED:20250220T193217Z
UID:5488-1741800600-1741809600@oxfordmemoriallibrary.org
SUMMARY:March Family Craft Night - Tin Folk Art
DESCRIPTION:
URL:https://oxfordmemoriallibrary.org/event/march-family-craft-night-tin-folk-art/
LOCATION:Oxford Memorial Library\, 8 Fort Hill Park\, Oxford\, NY\, 13830\, United States
CATEGORIES:family,Public,youth
END:VEVENT
BEGIN:VEVENT
DTSTART;TZID=America/New_York:20250322T130000
DTEND;TZID=America/New_York:20250322T140000
DTSTAMP:20260423T165654
CREATED:20250220T193912Z
LAST-MODIFIED:20250226T181436Z
UID:5497-1742648400-1742652000@oxfordmemoriallibrary.org
SUMMARY:Women's History Month Presentation
DESCRIPTION:
URL:https://oxfordmemoriallibrary.org/event/womens-history-month-presentation/
LOCATION:Oxford Memorial Library\, 8 Fort Hill Park\, Oxford\, NY\, 13830\, United States
CATEGORIES:Public
END:VEVENT
BEGIN:VEVENT
DTSTART;TZID=America/New_York:20250327T173000
DTEND;TZID=America/New_York:20250327T200000
DTSTAMP:20260423T165654
CREATED:20250220T214833Z
LAST-MODIFIED:20250220T214833Z
UID:5499-1743096600-1743105600@oxfordmemoriallibrary.org
SUMMARY:Adult Craft Night - Spring Beaded Wreath
DESCRIPTION:
URL:https://oxfordmemoriallibrary.org/event/adult-craft-night-spring-beaded-wreath/
LOCATION:Oxford Memorial Library\, 8 Fort Hill Park\, Oxford\, NY\, 13830\, United States
CATEGORIES:adult,Public
END:VEVENT
BEGIN:VEVENT
DTSTART;TZID=America/New_York:20250409T173000
DTEND;TZID=America/New_York:20250409T190000
DTSTAMP:20260423T165654
CREATED:20250327T205225Z
LAST-MODIFIED:20250327T205225Z
UID:5638-1744219800-1744225200@oxfordmemoriallibrary.org
SUMMARY:Family Craft Night - Butterfly Garland
DESCRIPTION:
URL:https://oxfordmemoriallibrary.org/event/family-craft-night-butterfly-garland/
LOCATION:NY
CATEGORIES:family,Public,youth
END:VEVENT
BEGIN:VEVENT
DTSTART;TZID=America/New_York:20250412T130000
DTEND;TZID=America/New_York:20250412T140000
DTSTAMP:20260423T165654
CREATED:20250331T152452Z
LAST-MODIFIED:20250331T155344Z
UID:5670-1744462800-1744466400@oxfordmemoriallibrary.org
SUMMARY:A Walk Around the Park - Local History Presentation
DESCRIPTION:
URL:https://oxfordmemoriallibrary.org/event/a-walk-in-the-park-local-history-presentation/
LOCATION:Oxford Memorial Library\, 8 Fort Hill Park\, Oxford\, NY\, 13830\, United States
CATEGORIES:adult,family,Public
END:VEVENT
BEGIN:VEVENT
DTSTART;TZID=America/New_York:20250419T093000
DTEND;TZID=America/New_York:20250419T130000
DTSTAMP:20260423T165654
CREATED:20250331T134650Z
LAST-MODIFIED:20250331T134650Z
UID:5658-1745055000-1745067600@oxfordmemoriallibrary.org
SUMMARY:Book Sale
DESCRIPTION:
URL:https://oxfordmemoriallibrary.org/event/book-sale-3/
LOCATION:Oxford Memorial Library\, 8 Fort Hill Park\, Oxford\, NY\, 13830\, United States
CATEGORIES:Public
END:VEVENT
BEGIN:VEVENT
DTSTART;TZID=America/New_York:20250421T093000
DTEND;TZID=America/New_York:20250421T200000
DTSTAMP:20260423T165654
CREATED:20250331T134737Z
LAST-MODIFIED:20250331T134745Z
UID:5661-1745227800-1745265600@oxfordmemoriallibrary.org
SUMMARY:Book Sale
DESCRIPTION:
URL:https://oxfordmemoriallibrary.org/event/book-sale-copy/
LOCATION:Oxford Memorial Library\, 8 Fort Hill Park\, Oxford\, NY\, 13830\, United States
CATEGORIES:Public
END:VEVENT
BEGIN:VEVENT
DTSTART;TZID=America/New_York:20250422T093000
DTEND;TZID=America/New_York:20250422T200000
DTSTAMP:20260423T165654
CREATED:20250331T134825Z
LAST-MODIFIED:20250331T134825Z
UID:5664-1745314200-1745352000@oxfordmemoriallibrary.org
SUMMARY:Book Sale
DESCRIPTION:
URL:https://oxfordmemoriallibrary.org/event/book-sale-4/
LOCATION:Oxford Memorial Library\, 8 Fort Hill Park\, Oxford\, NY\, 13830\, United States
CATEGORIES:Public
END:VEVENT
END:VCALENDAR