BEGIN:VCALENDAR
VERSION:2.0
PRODID:-//Oxford Memorial Library - ECPv6.15.18//NONSGML v1.0//EN
CALSCALE:GREGORIAN
METHOD:PUBLISH
X-WR-CALNAME:Oxford Memorial Library
X-ORIGINAL-URL:https://oxfordmemoriallibrary.org
X-WR-CALDESC:Events for Oxford Memorial Library
REFRESH-INTERVAL;VALUE=DURATION:PT1H
X-Robots-Tag:noindex
X-PUBLISHED-TTL:PT1H
BEGIN:VTIMEZONE
TZID:America/New_York
BEGIN:DAYLIGHT
TZOFFSETFROM:-0500
TZOFFSETTO:-0400
TZNAME:EDT
DTSTART:20230312T070000
END:DAYLIGHT
BEGIN:STANDARD
TZOFFSETFROM:-0400
TZOFFSETTO:-0500
TZNAME:EST
DTSTART:20231105T060000
END:STANDARD
BEGIN:DAYLIGHT
TZOFFSETFROM:-0500
TZOFFSETTO:-0400
TZNAME:EDT
DTSTART:20240310T070000
END:DAYLIGHT
BEGIN:STANDARD
TZOFFSETFROM:-0400
TZOFFSETTO:-0500
TZNAME:EST
DTSTART:20241103T060000
END:STANDARD
BEGIN:DAYLIGHT
TZOFFSETFROM:-0500
TZOFFSETTO:-0400
TZNAME:EDT
DTSTART:20250309T070000
END:DAYLIGHT
BEGIN:STANDARD
TZOFFSETFROM:-0400
TZOFFSETTO:-0500
TZNAME:EST
DTSTART:20251102T060000
END:STANDARD
BEGIN:DAYLIGHT
TZOFFSETFROM:-0500
TZOFFSETTO:-0400
TZNAME:EDT
DTSTART:20260308T070000
END:DAYLIGHT
BEGIN:STANDARD
TZOFFSETFROM:-0400
TZOFFSETTO:-0500
TZNAME:EST
DTSTART:20261101T060000
END:STANDARD
END:VTIMEZONE
BEGIN:VEVENT
DTSTART;TZID=America/New_York:20241012T090000
DTEND;TZID=America/New_York:20241012T130000
DTSTAMP:20260423T120859
CREATED:20240924T143851Z
LAST-MODIFIED:20240924T143851Z
UID:4841-1728723600-1728738000@oxfordmemoriallibrary.org
SUMMARY:Book Sale
DESCRIPTION:HUGE Book Sale \nNo set prices; make a cash donation! \nBooks for all ages\, Books on CD\, DVDs\, and more!
URL:https://oxfordmemoriallibrary.org/event/book-sale-2/
LOCATION:Oxford Memorial Library\, 8 Fort Hill Park\, Oxford\, NY\, 13830\, United States
CATEGORIES:Public
END:VEVENT
BEGIN:VEVENT
DTSTART;TZID=America/New_York:20241026T130000
DTEND;TZID=America/New_York:20241026T140000
DTSTAMP:20260423T120859
CREATED:20240924T144212Z
LAST-MODIFIED:20241004T172723Z
UID:4843-1729947600-1729951200@oxfordmemoriallibrary.org
SUMMARY:The Loomis Gang with Vicky House
DESCRIPTION:
URL:https://oxfordmemoriallibrary.org/event/the-loomis-gang-with-vicky-house/
LOCATION:Oxford Memorial Library\, 8 Fort Hill Park\, Oxford\, NY\, 13830\, United States
CATEGORIES:adult,Public
END:VEVENT
BEGIN:VEVENT
DTSTART;TZID=America/New_York:20250212T173000
DTEND;TZID=America/New_York:20250212T183000
DTSTAMP:20260423T120859
CREATED:20250117T192909Z
LAST-MODIFIED:20250117T192909Z
UID:5343-1739381400-1739385000@oxfordmemoriallibrary.org
SUMMARY:Valentine's Day Family Craft Night
DESCRIPTION:
URL:https://oxfordmemoriallibrary.org/event/valentines-day-family-craft-night/
LOCATION:Oxford Memorial Library\, 8 Fort Hill Park\, Oxford\, NY\, 13830\, United States
CATEGORIES:family,Public,youth
END:VEVENT
BEGIN:VEVENT
DTSTART;TZID=America/New_York:20250308T110000
DTEND;TZID=America/New_York:20250308T130000
DTSTAMP:20260423T120859
CREATED:20250220T192416Z
LAST-MODIFIED:20250220T192416Z
UID:5486-1741431600-1741438800@oxfordmemoriallibrary.org
SUMMARY:Nancy's Retirement Party
DESCRIPTION:
URL:https://oxfordmemoriallibrary.org/event/nancys-retirement-party/
LOCATION:Oxford Memorial Library\, 8 Fort Hill Park\, Oxford\, NY\, 13830\, United States
CATEGORIES:Public
END:VEVENT
BEGIN:VEVENT
DTSTART;TZID=America/New_York:20250312T173000
DTEND;TZID=America/New_York:20250312T200000
DTSTAMP:20260423T120859
CREATED:20250220T193120Z
LAST-MODIFIED:20250220T193217Z
UID:5488-1741800600-1741809600@oxfordmemoriallibrary.org
SUMMARY:March Family Craft Night - Tin Folk Art
DESCRIPTION:
URL:https://oxfordmemoriallibrary.org/event/march-family-craft-night-tin-folk-art/
LOCATION:Oxford Memorial Library\, 8 Fort Hill Park\, Oxford\, NY\, 13830\, United States
CATEGORIES:family,Public,youth
END:VEVENT
BEGIN:VEVENT
DTSTART;TZID=America/New_York:20250322T130000
DTEND;TZID=America/New_York:20250322T140000
DTSTAMP:20260423T120859
CREATED:20250220T193912Z
LAST-MODIFIED:20250226T181436Z
UID:5497-1742648400-1742652000@oxfordmemoriallibrary.org
SUMMARY:Women's History Month Presentation
DESCRIPTION:
URL:https://oxfordmemoriallibrary.org/event/womens-history-month-presentation/
LOCATION:Oxford Memorial Library\, 8 Fort Hill Park\, Oxford\, NY\, 13830\, United States
CATEGORIES:Public
END:VEVENT
BEGIN:VEVENT
DTSTART;TZID=America/New_York:20250327T173000
DTEND;TZID=America/New_York:20250327T200000
DTSTAMP:20260423T120859
CREATED:20250220T214833Z
LAST-MODIFIED:20250220T214833Z
UID:5499-1743096600-1743105600@oxfordmemoriallibrary.org
SUMMARY:Adult Craft Night - Spring Beaded Wreath
DESCRIPTION:
URL:https://oxfordmemoriallibrary.org/event/adult-craft-night-spring-beaded-wreath/
LOCATION:Oxford Memorial Library\, 8 Fort Hill Park\, Oxford\, NY\, 13830\, United States
CATEGORIES:adult,Public
END:VEVENT
BEGIN:VEVENT
DTSTART;TZID=America/New_York:20250409T173000
DTEND;TZID=America/New_York:20250409T190000
DTSTAMP:20260423T120859
CREATED:20250327T205225Z
LAST-MODIFIED:20250327T205225Z
UID:5638-1744219800-1744225200@oxfordmemoriallibrary.org
SUMMARY:Family Craft Night - Butterfly Garland
DESCRIPTION:
URL:https://oxfordmemoriallibrary.org/event/family-craft-night-butterfly-garland/
LOCATION:NY
CATEGORIES:family,Public,youth
END:VEVENT
BEGIN:VEVENT
DTSTART;TZID=America/New_York:20250412T130000
DTEND;TZID=America/New_York:20250412T140000
DTSTAMP:20260423T120859
CREATED:20250331T152452Z
LAST-MODIFIED:20250331T155344Z
UID:5670-1744462800-1744466400@oxfordmemoriallibrary.org
SUMMARY:A Walk Around the Park - Local History Presentation
DESCRIPTION:
URL:https://oxfordmemoriallibrary.org/event/a-walk-in-the-park-local-history-presentation/
LOCATION:Oxford Memorial Library\, 8 Fort Hill Park\, Oxford\, NY\, 13830\, United States
CATEGORIES:adult,family,Public
END:VEVENT
BEGIN:VEVENT
DTSTART;TZID=America/New_York:20250419T093000
DTEND;TZID=America/New_York:20250419T130000
DTSTAMP:20260423T120859
CREATED:20250331T134650Z
LAST-MODIFIED:20250331T134650Z
UID:5658-1745055000-1745067600@oxfordmemoriallibrary.org
SUMMARY:Book Sale
DESCRIPTION:
URL:https://oxfordmemoriallibrary.org/event/book-sale-3/
LOCATION:Oxford Memorial Library\, 8 Fort Hill Park\, Oxford\, NY\, 13830\, United States
CATEGORIES:Public
END:VEVENT
BEGIN:VEVENT
DTSTART;TZID=America/New_York:20250421T093000
DTEND;TZID=America/New_York:20250421T200000
DTSTAMP:20260423T120859
CREATED:20250331T134737Z
LAST-MODIFIED:20250331T134745Z
UID:5661-1745227800-1745265600@oxfordmemoriallibrary.org
SUMMARY:Book Sale
DESCRIPTION:
URL:https://oxfordmemoriallibrary.org/event/book-sale-copy/
LOCATION:Oxford Memorial Library\, 8 Fort Hill Park\, Oxford\, NY\, 13830\, United States
CATEGORIES:Public
END:VEVENT
BEGIN:VEVENT
DTSTART;TZID=America/New_York:20250422T093000
DTEND;TZID=America/New_York:20250422T200000
DTSTAMP:20260423T120859
CREATED:20250331T134825Z
LAST-MODIFIED:20250331T134825Z
UID:5664-1745314200-1745352000@oxfordmemoriallibrary.org
SUMMARY:Book Sale
DESCRIPTION:
URL:https://oxfordmemoriallibrary.org/event/book-sale-4/
LOCATION:Oxford Memorial Library\, 8 Fort Hill Park\, Oxford\, NY\, 13830\, United States
CATEGORIES:Public
END:VEVENT
BEGIN:VEVENT
DTSTART;TZID=America/New_York:20250424T173000
DTEND;TZID=America/New_York:20250424T190000
DTSTAMP:20260423T120859
CREATED:20250407T133221Z
LAST-MODIFIED:20250407T133221Z
UID:5694-1745515800-1745521200@oxfordmemoriallibrary.org
SUMMARY:Adult Craft Night - Upcycled Pansy Planters
DESCRIPTION:
URL:https://oxfordmemoriallibrary.org/event/adult-craft-night-upcycled-pansy-planters/
LOCATION:Oxford Memorial Library\, 8 Fort Hill Park\, Oxford\, NY\, 13830\, United States
CATEGORIES:adult,Public
END:VEVENT
BEGIN:VEVENT
DTSTART;TZID=America/New_York:20250430T170000
DTEND;TZID=America/New_York:20250430T200000
DTSTAMP:20260423T120859
CREATED:20250324T162315Z
LAST-MODIFIED:20250324T162315Z
UID:5604-1746032400-1746043200@oxfordmemoriallibrary.org
SUMMARY:Earth Day Art Show
DESCRIPTION:
URL:https://oxfordmemoriallibrary.org/event/earth-day-art-show/
LOCATION:Oxford Memorial Library\, 8 Fort Hill Park\, Oxford\, NY\, 13830\, United States
CATEGORIES:adult,family,Public,teen,youth
END:VEVENT
BEGIN:VEVENT
DTSTART;TZID=America/New_York:20250506T180000
DTEND;TZID=America/New_York:20250506T190000
DTSTAMP:20260423T120859
CREATED:20250428T151812Z
LAST-MODIFIED:20250428T151812Z
UID:5747-1746554400-1746558000@oxfordmemoriallibrary.org
SUMMARY:Disaster Preparedness Training
DESCRIPTION:
URL:https://oxfordmemoriallibrary.org/event/disaster-preparedness-training-2/
LOCATION:Oxford Memorial Library\, 8 Fort Hill Park\, Oxford\, NY\, 13830\, United States
CATEGORIES:Public
END:VEVENT
BEGIN:VEVENT
DTSTART;TZID=America/New_York:20250508T190000
DTEND;TZID=America/New_York:20250508T200000
DTSTAMP:20260423T120859
CREATED:20250422T234332Z
LAST-MODIFIED:20250422T234332Z
UID:5739-1746730800-1746734400@oxfordmemoriallibrary.org
SUMMARY:May Board Meeting
DESCRIPTION:Library Board Meetings are always open to the public.
URL:https://oxfordmemoriallibrary.org/event/may-board-meeting/
LOCATION:Oxford Memorial Library\, 8 Fort Hill Park\, Oxford\, NY\, 13830\, United States
CATEGORIES:Public
END:VEVENT
BEGIN:VEVENT
DTSTART;TZID=America/New_York:20250510T113000
DTEND;TZID=America/New_York:20250510T130000
DTSTAMP:20260423T120859
CREATED:20250422T234427Z
LAST-MODIFIED:20250422T234427Z
UID:5741-1746876600-1746882000@oxfordmemoriallibrary.org
SUMMARY:Mother's Day Crafting Brunch
DESCRIPTION:
URL:https://oxfordmemoriallibrary.org/event/mothers-day-crafting-brunch/
LOCATION:Oxford Memorial Library\, 8 Fort Hill Park\, Oxford\, NY\, 13830\, United States
CATEGORIES:family,Public
END:VEVENT
BEGIN:VEVENT
DTSTART;TZID=America/New_York:20250524T100000
DTEND;TZID=America/New_York:20250524T130000
DTSTAMP:20260423T120859
CREATED:20250501T205819Z
LAST-MODIFIED:20250501T205819Z
UID:5792-1748080800-1748091600@oxfordmemoriallibrary.org
SUMMARY:Plant Swap
DESCRIPTION:
URL:https://oxfordmemoriallibrary.org/event/plant-swap/
LOCATION:Oxford Memorial Library\, 8 Fort Hill Park\, Oxford\, NY\, 13830\, United States
CATEGORIES:adult,Public
END:VEVENT
BEGIN:VEVENT
DTSTART;TZID=America/New_York:20250611T173000
DTEND;TZID=America/New_York:20250611T190000
DTSTAMP:20260423T120859
CREATED:20250602T162817Z
LAST-MODIFIED:20250602T162817Z
UID:5871-1749663000-1749668400@oxfordmemoriallibrary.org
SUMMARY:Family Craft Night - Macrame Rainbows
DESCRIPTION:
URL:https://oxfordmemoriallibrary.org/event/family-craft-night-macrame-rainbows/
LOCATION:Oxford Memorial Library\, 8 Fort Hill Park\, Oxford\, NY\, 13830\, United States
CATEGORIES:family,Public,youth
END:VEVENT
BEGIN:VEVENT
DTSTART;TZID=America/New_York:20250612T190000
DTEND;TZID=America/New_York:20250612T200000
DTSTAMP:20260423T120859
CREATED:20250602T163338Z
LAST-MODIFIED:20250602T163338Z
UID:5881-1749754800-1749758400@oxfordmemoriallibrary.org
SUMMARY:June Board Meeting
DESCRIPTION:The monthly board meeting will take place on Thursday June 12th at 7pm. Oxford Memorial Library board meetings are always open to the public. Review the meeting agenda and past meeting minutes under the “Library Board of Trustees” tab.
URL:https://oxfordmemoriallibrary.org/event/june-board-meeting/
LOCATION:NY
CATEGORIES:Public
END:VEVENT
BEGIN:VEVENT
DTSTART;TZID=America/New_York:20250620T160000
DTEND;TZID=America/New_York:20250620T180000
DTSTAMP:20260423T120859
CREATED:20250602T163031Z
LAST-MODIFIED:20250602T163031Z
UID:5876-1750435200-1750442400@oxfordmemoriallibrary.org
SUMMARY:Pride at the Library
DESCRIPTION:
URL:https://oxfordmemoriallibrary.org/event/pride-at-the-library-2/
LOCATION:Oxford Memorial Library\, 8 Fort Hill Park\, Oxford\, NY\, 13830\, United States
CATEGORIES:adult,family,Public,teen,youth
END:VEVENT
BEGIN:VEVENT
DTSTART;TZID=America/New_York:20250702T130000
DTEND;TZID=America/New_York:20250702T140000
DTSTAMP:20260423T120859
CREATED:20250621T153807Z
LAST-MODIFIED:20250621T153807Z
UID:5949-1751461200-1751464800@oxfordmemoriallibrary.org
SUMMARY:Walk-Through Butterfly Exhibit
DESCRIPTION:
URL:https://oxfordmemoriallibrary.org/event/walk-through-butterfly-exhibit/
LOCATION:Oxford Memorial Library\, 8 Fort Hill Park\, Oxford\, NY\, 13830\, United States
CATEGORIES:family,Public
END:VEVENT
BEGIN:VEVENT
DTSTART;TZID=America/New_York:20250710T100000
DTEND;TZID=America/New_York:20250710T230000
DTSTAMP:20260423T120859
CREATED:20250621T154055Z
LAST-MODIFIED:20250621T154055Z
UID:5955-1752141600-1752188400@oxfordmemoriallibrary.org
SUMMARY:Adult Summer Craft - Alcohol Ink Tiles
DESCRIPTION:
URL:https://oxfordmemoriallibrary.org/event/adult-summer-craft-alcohol-ink-tiles/
LOCATION:Oxford Memorial Library\, 8 Fort Hill Park\, Oxford\, NY\, 13830\, United States
CATEGORIES:adult,Public
END:VEVENT
BEGIN:VEVENT
DTSTART;TZID=America/New_York:20250814T093000
DTEND;TZID=America/New_York:20250814T190000
DTSTAMP:20260423T120859
CREATED:20250801T195216Z
LAST-MODIFIED:20250801T195422Z
UID:6027-1755163800-1755198000@oxfordmemoriallibrary.org
SUMMARY:Book Sale
DESCRIPTION:
URL:https://oxfordmemoriallibrary.org/event/book-sale-5/
LOCATION:Oxford Memorial Library\, 8 Fort Hill Park\, Oxford\, NY\, 13830\, United States
CATEGORIES:Public
END:VEVENT
BEGIN:VEVENT
DTSTART;TZID=America/New_York:20250815T093000
DTEND;TZID=America/New_York:20250815T190000
DTSTAMP:20260423T120859
CREATED:20250801T195313Z
LAST-MODIFIED:20250801T195401Z
UID:6030-1755250200-1755284400@oxfordmemoriallibrary.org
SUMMARY:Book Sale
DESCRIPTION:
URL:https://oxfordmemoriallibrary.org/event/book-sale-6/
LOCATION:Oxford Memorial Library\, 8 Fort Hill Park\, Oxford\, NY\, 13830\, United States
CATEGORIES:Public
END:VEVENT
BEGIN:VEVENT
DTSTART;TZID=America/New_York:20250816T093000
DTEND;TZID=America/New_York:20250816T140000
DTSTAMP:20260423T120859
CREATED:20250801T195342Z
LAST-MODIFIED:20250801T195342Z
UID:6031-1755336600-1755352800@oxfordmemoriallibrary.org
SUMMARY:Book Sale
DESCRIPTION:
URL:https://oxfordmemoriallibrary.org/event/book-sale-7/
LOCATION:Oxford Memorial Library\, 8 Fort Hill Park\, Oxford\, NY\, 13830\, United States
CATEGORIES:Public
END:VEVENT
BEGIN:VEVENT
DTSTART;TZID=America/New_York:20250819T173000
DTEND;TZID=America/New_York:20250819T183000
DTSTAMP:20260423T120859
CREATED:20250806T184035Z
LAST-MODIFIED:20250806T184035Z
UID:6066-1755624600-1755628200@oxfordmemoriallibrary.org
SUMMARY:Views of the Past: Through the Lens of Vernon Duroe
DESCRIPTION:
URL:https://oxfordmemoriallibrary.org/event/views-of-the-past-through-the-lens-of-vernon-duroe/
LOCATION:Oxford Memorial Library\, 8 Fort Hill Park\, Oxford\, NY\, 13830\, United States
CATEGORIES:adult,Public
END:VEVENT
BEGIN:VEVENT
DTSTART;TZID=America/New_York:20250823T110000
DTEND;TZID=America/New_York:20250823T150000
DTSTAMP:20260423T120859
CREATED:20250801T195115Z
LAST-MODIFIED:20250801T195115Z
UID:6024-1755946800-1755961200@oxfordmemoriallibrary.org
SUMMARY:125 Years of the Oxford Memorial Library
DESCRIPTION:
URL:https://oxfordmemoriallibrary.org/event/125-years-of-the-oxford-memorial-library/
LOCATION:Oxford Memorial Library\, 8 Fort Hill Park\, Oxford\, NY\, 13830\, United States
CATEGORIES:family,Public
END:VEVENT
BEGIN:VEVENT
DTSTART;VALUE=DATE:20251001
DTEND;VALUE=DATE:20251101
DTSTAMP:20260423T120859
CREATED:20250924T200900Z
LAST-MODIFIED:20250924T200900Z
UID:6130-1759276800-1761955199@oxfordmemoriallibrary.org
SUMMARY:Care Cabinet Supply Drive - The Great Give Back
DESCRIPTION:
URL:https://oxfordmemoriallibrary.org/event/care-cabinet-supply-drive-the-great-give-back/
LOCATION:NY
CATEGORIES:Public
END:VEVENT
BEGIN:VEVENT
DTSTART;TZID=America/New_York:20251014T173000
DTEND;TZID=America/New_York:20251014T183000
DTSTAMP:20260423T120859
CREATED:20251001T152546Z
LAST-MODIFIED:20251003T210521Z
UID:6133-1760463000-1760466600@oxfordmemoriallibrary.org
SUMMARY:Family Craft Night - Witch Lanterns
DESCRIPTION:
URL:https://oxfordmemoriallibrary.org/event/family-craft-night-witch-lanterns/
LOCATION:Oxford Memorial Library\, 8 Fort Hill Park\, Oxford\, NY\, 13830\, United States
CATEGORIES:family,Public,youth
END:VEVENT
END:VCALENDAR