BEGIN:VCALENDAR
VERSION:2.0
PRODID:-//Oxford Memorial Library - ECPv6.15.18//NONSGML v1.0//EN
CALSCALE:GREGORIAN
METHOD:PUBLISH
X-ORIGINAL-URL:https://oxfordmemoriallibrary.org
X-WR-CALDESC:Events for Oxford Memorial Library
REFRESH-INTERVAL;VALUE=DURATION:PT1H
X-Robots-Tag:noindex
X-PUBLISHED-TTL:PT1H
BEGIN:VTIMEZONE
TZID:America/New_York
BEGIN:DAYLIGHT
TZOFFSETFROM:-0500
TZOFFSETTO:-0400
TZNAME:EDT
DTSTART:20240310T070000
END:DAYLIGHT
BEGIN:STANDARD
TZOFFSETFROM:-0400
TZOFFSETTO:-0500
TZNAME:EST
DTSTART:20241103T060000
END:STANDARD
BEGIN:DAYLIGHT
TZOFFSETFROM:-0500
TZOFFSETTO:-0400
TZNAME:EDT
DTSTART:20250309T070000
END:DAYLIGHT
BEGIN:STANDARD
TZOFFSETFROM:-0400
TZOFFSETTO:-0500
TZNAME:EST
DTSTART:20251102T060000
END:STANDARD
BEGIN:DAYLIGHT
TZOFFSETFROM:-0500
TZOFFSETTO:-0400
TZNAME:EDT
DTSTART:20260308T070000
END:DAYLIGHT
BEGIN:STANDARD
TZOFFSETFROM:-0400
TZOFFSETTO:-0500
TZNAME:EST
DTSTART:20261101T060000
END:STANDARD
END:VTIMEZONE
BEGIN:VEVENT
DTSTART;TZID=America/New_York:20251018T100000
DTEND;TZID=America/New_York:20251018T130000
DTSTAMP:20260423T223732
CREATED:20250924T200745Z
LAST-MODIFIED:20250924T200745Z
UID:6127-1760781600-1760792400@oxfordmemoriallibrary.org
SUMMARY:Caring Cards - The Great Give Back
DESCRIPTION:
URL:https://oxfordmemoriallibrary.org/event/caring-cards-the-great-give-back/
LOCATION:Oxford Memorial Library\, 8 Fort Hill Park\, Oxford\, NY\, 13830\, United States
CATEGORIES:adult,family,Public,teen,youth
END:VEVENT
BEGIN:VEVENT
DTSTART;TZID=America/New_York:20251023T173000
DTEND;TZID=America/New_York:20251023T190000
DTSTAMP:20260423T223732
CREATED:20250924T200523Z
LAST-MODIFIED:20250924T200523Z
UID:6123-1761240600-1761246000@oxfordmemoriallibrary.org
SUMMARY:Adult Craft Night - Vintage Halloween Trinket Boxes
DESCRIPTION:
URL:https://oxfordmemoriallibrary.org/event/adult-craft-night-vintage-halloween-trinket-boxes/
LOCATION:Oxford Memorial Library\, 8 Fort Hill Park\, Oxford\, NY\, 13830\, United States
CATEGORIES:adult,Public
END:VEVENT
BEGIN:VEVENT
DTSTART;TZID=America/New_York:20251024T170000
DTEND;TZID=America/New_York:20251024T190000
DTSTAMP:20260423T223732
CREATED:20251010T192814Z
LAST-MODIFIED:20251010T192814Z
UID:6160-1761325200-1761332400@oxfordmemoriallibrary.org
SUMMARY:Meet the Author - E.M. Otero
DESCRIPTION:
URL:https://oxfordmemoriallibrary.org/event/meet-the-author-e-m-otero/
LOCATION:Oxford Memorial Library\, 8 Fort Hill Park\, Oxford\, NY\, 13830\, United States
CATEGORIES:adult,Public
END:VEVENT
END:VCALENDAR