BEGIN:VCALENDAR
VERSION:2.0
PRODID:-//Oxford Memorial Library - ECPv6.15.18//NONSGML v1.0//EN
CALSCALE:GREGORIAN
METHOD:PUBLISH
X-ORIGINAL-URL:https://oxfordmemoriallibrary.org
X-WR-CALDESC:Events for Oxford Memorial Library
REFRESH-INTERVAL;VALUE=DURATION:PT1H
X-Robots-Tag:noindex
X-PUBLISHED-TTL:PT1H
BEGIN:VTIMEZONE
TZID:America/New_York
BEGIN:DAYLIGHT
TZOFFSETFROM:-0500
TZOFFSETTO:-0400
TZNAME:EDT
DTSTART:20220313T070000
END:DAYLIGHT
BEGIN:STANDARD
TZOFFSETFROM:-0400
TZOFFSETTO:-0500
TZNAME:EST
DTSTART:20221106T060000
END:STANDARD
BEGIN:DAYLIGHT
TZOFFSETFROM:-0500
TZOFFSETTO:-0400
TZNAME:EDT
DTSTART:20230312T070000
END:DAYLIGHT
BEGIN:STANDARD
TZOFFSETFROM:-0400
TZOFFSETTO:-0500
TZNAME:EST
DTSTART:20231105T060000
END:STANDARD
BEGIN:DAYLIGHT
TZOFFSETFROM:-0500
TZOFFSETTO:-0400
TZNAME:EDT
DTSTART:20240310T070000
END:DAYLIGHT
BEGIN:STANDARD
TZOFFSETFROM:-0400
TZOFFSETTO:-0500
TZNAME:EST
DTSTART:20241103T060000
END:STANDARD
BEGIN:DAYLIGHT
TZOFFSETFROM:-0500
TZOFFSETTO:-0400
TZNAME:EDT
DTSTART:20250309T070000
END:DAYLIGHT
BEGIN:STANDARD
TZOFFSETFROM:-0400
TZOFFSETTO:-0500
TZNAME:EST
DTSTART:20251102T060000
END:STANDARD
END:VTIMEZONE
BEGIN:VEVENT
DTSTART;TZID=America/New_York:20241211T170000
DTEND;TZID=America/New_York:20241211T200000
DTSTAMP:20260421T063036
CREATED:20241121T161617Z
LAST-MODIFIED:20241121T161617Z
UID:5115-1733936400-1733947200@oxfordmemoriallibrary.org
SUMMARY:Family Craft Night - Snowflake Ornaments
DESCRIPTION:Visit the Oxford Memorial Library for a fun winter craft! All ages are welcome to come and make a snowflake ornament out of puzzle pieces. All children must be accompanied by an adult.
URL:https://oxfordmemoriallibrary.org/event/family-craft-night-snowflake-ornaments/
LOCATION:Oxford Memorial Library\, 8 Fort Hill Park\, Oxford\, NY\, 13830\, United States
CATEGORIES:family,youth
END:VEVENT
BEGIN:VEVENT
DTSTART;VALUE=DATE:20240901
DTEND;VALUE=DATE:20241001
DTSTAMP:20260421T063036
CREATED:20240827T152719Z
LAST-MODIFIED:20240827T152719Z
UID:4776-1725148800-1727740799@oxfordmemoriallibrary.org
SUMMARY:Bookmark Design Contest
DESCRIPTION:Oxford Memorial Library is hosting a Bookmark Design Contest open to all ages in celebration of Library Card Sign-Up Month!
URL:https://oxfordmemoriallibrary.org/event/bookmark-design-contest/
LOCATION:NY
CATEGORIES:adult,Public,teen,youth
END:VEVENT
BEGIN:VEVENT
DTSTART;TZID=America/New_York:20240802T103000
DTEND;TZID=America/New_York:20240802T113000
DTSTAMP:20260421T063036
CREATED:20240610T213358Z
LAST-MODIFIED:20240624T160440Z
UID:4516-1722594600-1722598200@oxfordmemoriallibrary.org
SUMMARY:Summer Reading Program Activity- Sidewalk Chalk Art and Bubbles
DESCRIPTION:For the final Summer Reading Program activity\, we are going to have fun making sidewalk chalk art and playing with bubbles! We can talk about our favorite books from this summer and what we liked about the summer reading program.
URL:https://oxfordmemoriallibrary.org/event/summer-reading-program-activity-sidewalk-chalk-art-and-bubbles/
LOCATION:Oxford Memorial Library\, 8 Fort Hill Park\, Oxford\, NY\, 13830\, United States
CATEGORIES:family,youth
END:VEVENT
BEGIN:VEVENT
DTSTART;TZID=America/New_York:20240726T103000
DTEND;TZID=America/New_York:20240726T113000
DTSTAMP:20260421T063036
CREATED:20240610T213054Z
LAST-MODIFIED:20240610T213105Z
UID:4514-1721989800-1721993400@oxfordmemoriallibrary.org
SUMMARY:Summer Reading Program Activity - Flights of Fantasy with Dan
DESCRIPTION:Come to the library and have fun with Dan and his Flights of Fantasy program!
URL:https://oxfordmemoriallibrary.org/event/summer-reading-program-activity-flights-of-fantasy-with-dan/
LOCATION:Oxford Memorial Library\, 8 Fort Hill Park\, Oxford\, NY\, 13830\, United States
CATEGORIES:family,youth
END:VEVENT
BEGIN:VEVENT
DTSTART;TZID=America/New_York:20240719T103000
DTEND;TZID=America/New_York:20240719T113000
DTSTAMP:20260421T063036
CREATED:20240610T212901Z
LAST-MODIFIED:20240610T212901Z
UID:4512-1721385000-1721388600@oxfordmemoriallibrary.org
SUMMARY:Summer Reading Program Activity - 4-H program (TBD)
DESCRIPTION:We are excited to announce that one of our Summer Reading Activities will be in partnership with the 4-H department at Cornell Cooperative Extension! The exact activity will be posted soon.
URL:https://oxfordmemoriallibrary.org/event/summer-reading-program-activity-4-h-program-tbd/
LOCATION:Oxford Memorial Library\, 8 Fort Hill Park\, Oxford\, NY\, 13830\, United States
CATEGORIES:family,youth
END:VEVENT
BEGIN:VEVENT
DTSTART;TZID=America/New_York:20240712T103000
DTEND;TZID=America/New_York:20240712T113000
DTSTAMP:20260421T063036
CREATED:20240610T212609Z
LAST-MODIFIED:20240624T160525Z
UID:4510-1720780200-1720783800@oxfordmemoriallibrary.org
SUMMARY:Summer Reading Program Activity - Nature Rubbing Art
DESCRIPTION:Let’s take a walk around the library and collect things from nature to make art with! For this activity we will walk around the library and find leaves\, flowers\, bark\, and anything that inspires us to create nature rubbings with. We will also read a book together!
URL:https://oxfordmemoriallibrary.org/event/summer-reading-program-activity-nature-rubbing-art/
LOCATION:Oxford Memorial Library\, 8 Fort Hill Park\, Oxford\, NY\, 13830\, United States
CATEGORIES:family,youth
END:VEVENT
BEGIN:VEVENT
DTSTART;TZID=America/New_York:20240705T103000
DTEND;TZID=America/New_York:20240705T113000
DTSTAMP:20260421T063036
CREATED:20240610T212318Z
LAST-MODIFIED:20240624T160401Z
UID:4508-1720175400-1720179000@oxfordmemoriallibrary.org
SUMMARY:Summer Reading Program Activity - Water Bottle Decorating
DESCRIPTION:Come to the library to start off our month of Summer Reading Program Activities! This morning\, we will be decorating water bottles! You need to stay hydrated on summer adventures! We are limited to 10 spots for this craft so we’d appreciate if could call ahead and reserve your spot. You can also bring your own reusable water bottle to decorate it you want!
URL:https://oxfordmemoriallibrary.org/event/summer-reading-program-activity-water-bottle-decorating/
LOCATION:Oxford Memorial Library\, 8 Fort Hill Park\, Oxford\, NY\, 13830\, United States
CATEGORIES:family,youth
END:VEVENT
BEGIN:VEVENT
DTSTART;TZID=America/New_York:20240627T180000
DTEND;TZID=America/New_York:20240627T200000
DTSTAMP:20260421T063036
CREATED:20240521T144256Z
LAST-MODIFIED:20240521T144256Z
UID:4452-1719511200-1719518400@oxfordmemoriallibrary.org
SUMMARY:Green Golly and Her Golden Flute
DESCRIPTION:“Using a flute\, a guitar\, two voices\, and virtually no props – Green Golly provides a performing arts experience that children will most likely remember for the rest of their lives”\nGreen Golly is adventure.  \nGreen Golly is interactive musical mayhem.  \nGreen Golly is overcoming challenges.  \nGreen Golly is love\, respect\, beauty and courage.  \nGreen Golly is education\, entertainment and inspiration.  \nJoin us at the Oxford Memorial Library for an exciting musical storytelling program! This Rapunzel story told with live musical performance will be an event you don’t want to miss!
URL:https://oxfordmemoriallibrary.org/event/green-golly-and-her-golden-flute/
LOCATION:Oxford Memorial Library\, 8 Fort Hill Park\, Oxford\, NY\, 13830\, United States
CATEGORIES:family,youth
ATTACH;FMTTYPE=image/jpeg:https://oxfordmemoriallibrary.org/wp-content/uploads/2024/05/green-golly.jpeg
END:VEVENT
BEGIN:VEVENT
DTSTART;TZID=America/New_York:20240511T100000
DTEND;TZID=America/New_York:20240511T130000
DTSTAMP:20260421T063036
CREATED:20240328T215501Z
LAST-MODIFIED:20240328T215501Z
UID:4279-1715421600-1715432400@oxfordmemoriallibrary.org
SUMMARY:Monarch Voyage with Solitude Farmz
DESCRIPTION:Come to the Oxford Memorial Library for a pollinator presentation about Monarch Butterflies with Solitude Farms!
URL:https://oxfordmemoriallibrary.org/event/monarch-voyage-with-solitude-farmz/
LOCATION:Oxford Memorial Library\, 8 Fort Hill Park\, Oxford\, NY\, 13830\, United States
CATEGORIES:family,youth
END:VEVENT
BEGIN:VEVENT
DTSTART;TZID=America/New_York:20240404T180000
DTEND;TZID=America/New_York:20240404T200000
DTSTAMP:20260421T063036
CREATED:20240223T194429Z
LAST-MODIFIED:20240328T220103Z
UID:4223-1712253600-1712260800@oxfordmemoriallibrary.org
SUMMARY:Spring Story Time
DESCRIPTION:Join Jess for a Spring Story Time and Craft Night!
URL:https://oxfordmemoriallibrary.org/event/family-night-pollinator-presentation-from-solitude-farms/
LOCATION:Oxford Memorial Library\, 8 Fort Hill Park\, Oxford\, NY\, 13830\, United States
CATEGORIES:family,Public,youth
END:VEVENT
BEGIN:VEVENT
DTSTART;TZID=America/New_York:20240330T080000
DTEND;TZID=America/New_York:20240330T170000
DTSTAMP:20260421T063036
CREATED:20240223T193931Z
LAST-MODIFIED:20240223T193931Z
UID:4215-1711785600-1711818000@oxfordmemoriallibrary.org
SUMMARY:Easter Egg Hunt and Story Time at Solitude Farms
DESCRIPTION:AT SOLITUDE FARMS not the Oxford Memorial Library \nCome to this fun Easter event at Solitude Farms for a day of easter egg collecting and Story Time with Jess from the Oxford Memorial Library!
URL:https://oxfordmemoriallibrary.org/event/easter-egg-hunt-and-story-time-at-solitude-farms/
LOCATION:Solitude Farms
CATEGORIES:family,Public,youth
END:VEVENT
BEGIN:VEVENT
DTSTART;TZID=America/New_York:20240321T173000
DTEND;TZID=America/New_York:20240321T200000
DTSTAMP:20260421T063036
CREATED:20240223T193641Z
LAST-MODIFIED:20240223T193641Z
UID:4212-1711042200-1711051200@oxfordmemoriallibrary.org
SUMMARY:Family Game Night
DESCRIPTION:Join us for a family game night!
URL:https://oxfordmemoriallibrary.org/event/family-game-night-4/
LOCATION:Oxford Memorial Library\, 8 Fort Hill Park\, Oxford\, NY\, 13830\, United States
CATEGORIES:family,youth
END:VEVENT
BEGIN:VEVENT
DTSTART;TZID=America/New_York:20240307T180000
DTEND;TZID=America/New_York:20240307T200000
DTSTAMP:20260421T063036
CREATED:20240222T225253Z
LAST-MODIFIED:20240222T225253Z
UID:4199-1709834400-1709841600@oxfordmemoriallibrary.org
SUMMARY:Dr. Seuss Family Night
DESCRIPTION:
URL:https://oxfordmemoriallibrary.org/event/dr-seuss-family-night/
LOCATION:Oxford Memorial Library\, 8 Fort Hill Park\, Oxford\, NY\, 13830\, United States
CATEGORIES:family,youth
END:VEVENT
BEGIN:VEVENT
DTSTART;TZID=America/New_York:20240215T173000
DTEND;TZID=America/New_York:20240215T200000
DTSTAMP:20260421T063036
CREATED:20240201T223909Z
LAST-MODIFIED:20240201T223909Z
UID:4151-1708018200-1708027200@oxfordmemoriallibrary.org
SUMMARY:Family Game Night
DESCRIPTION:Join us for a family game night!
URL:https://oxfordmemoriallibrary.org/event/family-game-night-3/
LOCATION:Oxford Memorial Library\, 8 Fort Hill Park\, Oxford\, NY\, 13830\, United States
CATEGORIES:family,youth
END:VEVENT
BEGIN:VEVENT
DTSTART;TZID=America/New_York:20240125T100000
DTEND;TZID=America/New_York:20240125T120000
DTSTAMP:20260421T063036
CREATED:20240117T194414Z
LAST-MODIFIED:20240117T194414Z
UID:4112-1706176800-1706184000@oxfordmemoriallibrary.org
SUMMARY:Flying Through Homeschool
DESCRIPTION:Looking for a fun winter activity to do with your homeschoolers? \nCome to the library and make bird feeders!
URL:https://oxfordmemoriallibrary.org/event/flying-through-homeschool/
LOCATION:Oxford Memorial Library\, 8 Fort Hill Park\, Oxford\, NY\, 13830\, United States
CATEGORIES:family,youth
END:VEVENT
BEGIN:VEVENT
DTSTART;TZID=America/New_York:20240118T173000
DTEND;TZID=America/New_York:20240118T200000
DTSTAMP:20260421T063036
CREATED:20240117T194201Z
LAST-MODIFIED:20240117T194201Z
UID:4110-1705599000-1705608000@oxfordmemoriallibrary.org
SUMMARY:Family Game Night
DESCRIPTION:Join us for a family game night!
URL:https://oxfordmemoriallibrary.org/event/family-game-night-2/
LOCATION:Oxford Memorial Library\, 8 Fort Hill Park\, Oxford\, NY\, 13830\, United States
CATEGORIES:family,youth
END:VEVENT
BEGIN:VEVENT
DTSTART;TZID=America/New_York:20231208T180000
DTEND;TZID=America/New_York:20231208T200000
DTSTAMP:20260421T063036
CREATED:20231130T221718Z
LAST-MODIFIED:20231130T221718Z
UID:3989-1702058400-1702065600@oxfordmemoriallibrary.org
SUMMARY:The Polar Express
DESCRIPTION:Come for a cozy evening listening to the Polar Express with cocoa and cookies.
URL:https://oxfordmemoriallibrary.org/event/the-polar-express/
LOCATION:Oxford Memorial Library\, 8 Fort Hill Park\, Oxford\, NY\, 13830\, United States
CATEGORIES:family,Public,youth
END:VEVENT
BEGIN:VEVENT
DTSTART;TZID=America/New_York:20231130T100000
DTEND;TZID=America/New_York:20231130T120000
DTSTAMP:20260421T063036
CREATED:20231114T182148Z
LAST-MODIFIED:20231114T182329Z
UID:3940-1701338400-1701345600@oxfordmemoriallibrary.org
SUMMARY:Homeschool Meet and Greet
DESCRIPTION:All homeschooling families are encouraged to come to the Oxford Library to enjoy a day of fun activities! There will be stories\, activities\, crafts\, refreshments and more! \nStop by to have fun and make some new friends! \nThursday November 30th from 10am-12pm
URL:https://oxfordmemoriallibrary.org/event/homeschool-program/
LOCATION:Oxford Memorial Library\, 8 Fort Hill Park\, Oxford\, NY\, 13830\, United States
CATEGORIES:family,youth
END:VEVENT
END:VCALENDAR